View In:
ArcGIS JavaScript
ArcGIS Online Map Viewer
ArcGIS Earth
ArcGIS Pro
Service Description: Americus 2021 .25 ft. color imagery, cached map service derived from original SID files.
Map Name: Sumter_Imagery_2025
Legend
All Layers and Tables
Layers:
Description: Americus 2021 .25 ft. color imagery, cached map service derived from original SID files.
Service Item Id: 255052725483460abe26f96f3eace378
Copyright Text: KCS
Spatial Reference:
102667
(2240)
LatestVCSWkid(0)
Single Fused Map Cache: true
Tile Info:
- Height: 256.0
- Width: 256.0
- DPI: 96.0
-
Levels of Detail: 24
-
Level ID: 0
[ Start Tile, End Tile ]
- Resolution: 256339.8265954633
- Scale: 2.9530407084611547E8
-
Level ID: 1
[ Start Tile, End Tile ]
- Resolution: 128169.91329773165
- Scale: 1.4765203542305773E8
-
Level ID: 2
[ Start Tile, End Tile ]
- Resolution: 64084.956648865824
- Scale: 7.382601771152887E7
-
Level ID: 3
[ Start Tile, End Tile ]
- Resolution: 32042.478324432912
- Scale: 3.6913008855764434E7
-
Level ID: 4
[ Start Tile, End Tile ]
- Resolution: 16021.239162216456
- Scale: 1.8456504427882217E7
-
Level ID: 5
[ Start Tile, End Tile ]
- Resolution: 8010.619581108228
- Scale: 9228252.213941108
-
Level ID: 6
[ Start Tile, End Tile ]
- Resolution: 4005.309790554114
- Scale: 4614126.106970554
-
Level ID: 7
[ Start Tile, End Tile ]
- Resolution: 2002.654895277057
- Scale: 2307063.053485277
-
Level ID: 8
[ Start Tile, End Tile ]
- Resolution: 1001.3274476385285
- Scale: 1153531.5267426386
-
Level ID: 9
[ Start Tile, End Tile ]
- Resolution: 500.66372381926425
- Scale: 576765.7633713193
-
Level ID: 10
[ Start Tile, End Tile ]
- Resolution: 250.33186190963212
- Scale: 288382.88168565964
-
Level ID: 11
[ Start Tile, End Tile ]
- Resolution: 125.16593095481606
- Scale: 144191.44084282982
-
Level ID: 12
[ Start Tile, End Tile ]
- Resolution: 62.58296547740803
- Scale: 72095.72042141491
-
Level ID: 13
[ Start Tile, End Tile ]
- Resolution: 31.291482738704016
- Scale: 36047.860210707455
-
Level ID: 14
[ Start Tile, End Tile ]
- Resolution: 15.645741369352008
- Scale: 18023.930105353727
-
Level ID: 15
[ Start Tile, End Tile ]
- Resolution: 7.822870684676004
- Scale: 9011.965052676864
-
Level ID: 16
[ Start Tile, End Tile ]
- Resolution: 3.911435342338002
- Scale: 4505.982526338432
-
Level ID: 17
[ Start Tile, End Tile ]
- Resolution: 1.955717671169001
- Scale: 2252.991263169216
-
Level ID: 18
[ Start Tile, End Tile ]
- Resolution: 0.9778588355845005
- Scale: 1126.495631584608
-
Level ID: 19
[ Start Tile, End Tile ]
- Resolution: 0.48892941779225024
- Scale: 563.247815792304
-
Level ID: 20
[ Start Tile, End Tile ]
- Resolution: 0.24446470889612512
- Scale: 281.623907896152
-
Level ID: 21
[ Start Tile, End Tile ]
- Resolution: 0.12223235444806256
- Scale: 140.811953948076
-
Level ID: 22
[ Start Tile, End Tile ]
- Resolution: 0.06111617722403128
- Scale: 70.405976974038
-
Level ID: 23
[ Start Tile, End Tile ]
- Resolution: 0.03055808861201564
- Scale: 35.202988487019
- Format: Mixed
- Compression Quality: 75.0
- Origin: X: -3.051491447088597E7
Y: 2.1919848371993378E7
- Spatial Reference: 102667
(2240)
LatestVCSWkid(0)
Storage Info:
- Storage Format: esriMapCacheStorageModeCompactV2
- Packet Size: 128
Initial Extent:
XMin: 2165681.8451612904
YMin: 672012.0
XMax: 2418414.1548387096
YMax: 820116.0
Spatial Reference: 102667
(2240)
LatestVCSWkid(0)
Full Extent:
XMin: 2210208.0
YMin: 678744.0
XMax: 2373888.0
YMax: 813384.0
Spatial Reference: 102667
(2240)
LatestVCSWkid(0)
Units: esriFeet
Supported Image Format Types: PNG32,PNG24,PNG,JPG,DIB,TIFF,EMF,PS,PDF,GIF,SVG,SVGZ,BMP
Document Info:
Title: Untitled.aprx
Author:
Comments: Americus 2021 .25 ft. color imagery, cached map service derived from original SID files.
Subject: Americus Sumter 2021 Imagery
Category:
Keywords: Americus,Sumter,Imagery
AntialiasingMode: Fast
TextAntialiasingMode: Force
Supports Dynamic Layers: false
MaxRecordCount: 2000
MaxSelectionCount: 2000
MaxImageHeight: 4096
MaxImageWidth: 4096
Supported Query Formats: JSON, geoJSON, PBF
Supports Query Data Elements: true
Min Scale: 2.9530407084611547E8
Max Scale: 35.202988487019
Min LOD: 0
Max LOD: 19
Supports Datum Transformation: true
Child Resources:
Info
Supported Operations:
Export Map
Identify
QueryLegends
QueryDomains
Find
Return Updates